BEGIN:VCALENDAR
VERSION:2.0
PRODID:spatie/icalendar-generator
NAME:Coaching the Next Generation of CPAs
X-WR-CALNAME:Coaching the Next Generation of CPAs
BEGIN:VTIMEZONE
TZID:America/New_York
BEGIN:STANDARD
DTSTART:20251102T010000
TZOFFSETFROM:-0400
TZOFFSETTO:-0500
END:STANDARD
BEGIN:DAYLIGHT
DTSTART:20260308T010000
TZOFFSETFROM:-0500
TZOFFSETTO:-0400
END:DAYLIGHT
END:VTIMEZONE
BEGIN:VTIMEZONE
TZID:UTC
BEGIN:STANDARD
DTSTART:20250727T150238
TZOFFSETFROM:+0000
TZOFFSETTO:+0000
END:STANDARD
END:VTIMEZONE
BEGIN:VEVENT
UID:69ea348e9137b
DTSTAMP:20260423T150238Z
SUMMARY:Coaching the Next Generation of CPAs
LOCATION: 
URL:https://macpa.org/catalog/events/21239811-coaching-the-next-generation-
 of-cpas-2026-30-03
DTSTART;TZID=America/New_York:20260330T143000
DTEND;TZID=America/New_York:20260330T163000
END:VEVENT
END:VCALENDAR