BEGIN:VCALENDAR
VERSION:2.0
PRODID:spatie/icalendar-generator
NAME:1040 Tax Prep Automation with AI Tools
X-WR-CALNAME:1040 Tax Prep Automation with AI Tools
BEGIN:VTIMEZONE
TZID:America/New_York
BEGIN:STANDARD
DTSTART:20251102T010000
TZOFFSETFROM:-0400
TZOFFSETTO:-0500
END:STANDARD
BEGIN:DAYLIGHT
DTSTART:20260308T010000
TZOFFSETFROM:-0500
TZOFFSETTO:-0400
END:DAYLIGHT
END:VTIMEZONE
BEGIN:VTIMEZONE
TZID:UTC
BEGIN:STANDARD
DTSTART:20250727T150439
TZOFFSETFROM:+0000
TZOFFSETTO:+0000
END:STANDARD
END:VTIMEZONE
BEGIN:VEVENT
UID:69ea3507b9b08
DTSTAMP:20260423T150439Z
SUMMARY:1040 Tax Prep Automation with AI Tools
LOCATION: 
URL:https://macpa.org/catalog/events/21239782-1040-tax-prep-automation-with
 -ai-tools-2026-16-02
DTSTART;TZID=America/New_York:20260216T103000
DTEND;TZID=America/New_York:20260216T123000
END:VEVENT
END:VCALENDAR