BEGIN:VCALENDAR
VERSION:2.0
PRODID:spatie/icalendar-generator
NAME:Invest in Your Mental Health and Avoid Burnout
X-WR-CALNAME:Invest in Your Mental Health and Avoid Burnout
BEGIN:VTIMEZONE
TZID:America/New_York
BEGIN:STANDARD
DTSTART:20251102T010000
TZOFFSETFROM:-0400
TZOFFSETTO:-0500
END:STANDARD
BEGIN:DAYLIGHT
DTSTART:20260308T010000
TZOFFSETFROM:-0500
TZOFFSETTO:-0400
END:DAYLIGHT
END:VTIMEZONE
BEGIN:VTIMEZONE
TZID:UTC
BEGIN:STANDARD
DTSTART:20250727T094438
TZOFFSETFROM:+0000
TZOFFSETTO:+0000
END:STANDARD
END:VTIMEZONE
BEGIN:VEVENT
UID:69e9ea06ea103
DTSTAMP:20260423T094438Z
SUMMARY:Invest in Your Mental Health and Avoid Burnout
LOCATION: 
URL:https://macpa.org/catalog/events/21239697-invest-in-your-mental-health-
 and-avoid-burnout-2026-30-03
DTSTART;TZID=America/New_York:20260330T123000
DTEND;TZID=America/New_York:20260330T143000
END:VEVENT
END:VCALENDAR