BEGIN:VCALENDAR
VERSION:2.0
PRODID:spatie/icalendar-generator
NAME:How to Double Your Firm's Revenue Through CFO and Advisory
X-WR-CALNAME:How to Double Your Firm's Revenue Through CFO and Advisory
BEGIN:VTIMEZONE
TZID:America/New_York
BEGIN:STANDARD
DTSTART:20251102T010000
TZOFFSETFROM:-0400
TZOFFSETTO:-0500
END:STANDARD
BEGIN:DAYLIGHT
DTSTART:20260308T010000
TZOFFSETFROM:-0500
TZOFFSETTO:-0400
END:DAYLIGHT
END:VTIMEZONE
BEGIN:VTIMEZONE
TZID:UTC
BEGIN:STANDARD
DTSTART:20250727T163443
TZOFFSETFROM:+0000
TZOFFSETTO:+0000
END:STANDARD
END:VTIMEZONE
BEGIN:VEVENT
UID:69ea4a23702cd
DTSTAMP:20260423T163443Z
SUMMARY:How to Double Your Firm's Revenue Through CFO and Advisory
LOCATION: 
URL:https://macpa.org/catalog/events/21239633-how-to-double-your-firms-reve
 nue-through-cfo-and-advisory-2026-16-02
DTSTART;TZID=America/New_York:20260216T090000
DTEND;TZID=America/New_York:20260216T100000
END:VEVENT
END:VCALENDAR