BEGIN:VCALENDAR
VERSION:2.0
PRODID:spatie/icalendar-generator
NAME:2025 Annual Update for Not-for-Profit Accountants & Auditors
X-WR-CALNAME:2025 Annual Update for Not-for-Profit Accountants & Auditors
BEGIN:VTIMEZONE
TZID:America/New_York
BEGIN:STANDARD
DTSTART:20251102T010000
TZOFFSETFROM:-0400
TZOFFSETTO:-0500
END:STANDARD
BEGIN:DAYLIGHT
DTSTART:20260308T010000
TZOFFSETFROM:-0500
TZOFFSETTO:-0400
END:DAYLIGHT
END:VTIMEZONE
BEGIN:VTIMEZONE
TZID:UTC
BEGIN:STANDARD
DTSTART:20250727T133945
TZOFFSETFROM:+0000
TZOFFSETTO:+0000
END:STANDARD
END:VTIMEZONE
BEGIN:VEVENT
UID:69ea21215c30c
DTSTAMP:20260423T133945Z
SUMMARY:2025 Annual Update for Not-for-Profit Accountants & Auditors
LOCATION: 
URL:https://macpa.org/catalog/events/21239471-2025-annual-update-for-not-fo
 r-profit-accountants-auditors-2026-30-03
DTSTART;TZID=America/New_York:20260330T090000
DTEND;TZID=America/New_York:20260330T170000
END:VEVENT
END:VCALENDAR