BEGIN:VCALENDAR
VERSION:2.0
PRODID:spatie/icalendar-generator
NAME:Google Gemini AI for Accountants
X-WR-CALNAME:Google Gemini AI for Accountants
BEGIN:VTIMEZONE
TZID:America/New_York
BEGIN:STANDARD
DTSTART:20251102T010000
TZOFFSETFROM:-0400
TZOFFSETTO:-0500
END:STANDARD
BEGIN:DAYLIGHT
DTSTART:20260308T010000
TZOFFSETFROM:-0500
TZOFFSETTO:-0400
END:DAYLIGHT
END:VTIMEZONE
BEGIN:VTIMEZONE
TZID:UTC
BEGIN:STANDARD
DTSTART:20250727T150236
TZOFFSETFROM:+0000
TZOFFSETTO:+0000
END:STANDARD
END:VTIMEZONE
BEGIN:VEVENT
UID:69ea348cea7ae
DTSTAMP:20260423T150236Z
SUMMARY:Google Gemini AI for Accountants
LOCATION: 
URL:https://macpa.org/catalog/events/21239251-google-gemini-ai-for-accounta
 nts-2026-27-03
DTSTART;TZID=America/New_York:20260327T120000
DTEND;TZID=America/New_York:20260327T140000
END:VEVENT
END:VCALENDAR