BEGIN:VCALENDAR
VERSION:2.0
PRODID:spatie/icalendar-generator
NAME:Best Practices: Conducting Meaningful Walkthroughs
X-WR-CALNAME:Best Practices: Conducting Meaningful Walkthroughs
BEGIN:VTIMEZONE
TZID:America/New_York
BEGIN:STANDARD
DTSTART:20251102T010000
TZOFFSETFROM:-0400
TZOFFSETTO:-0500
END:STANDARD
BEGIN:DAYLIGHT
DTSTART:20260308T010000
TZOFFSETFROM:-0500
TZOFFSETTO:-0400
END:DAYLIGHT
END:VTIMEZONE
BEGIN:VTIMEZONE
TZID:UTC
BEGIN:STANDARD
DTSTART:20250727T094940
TZOFFSETFROM:+0000
TZOFFSETTO:+0000
END:STANDARD
END:VTIMEZONE
BEGIN:VEVENT
UID:69e9eb3436e14
DTSTAMP:20260423T094940Z
SUMMARY:Best Practices: Conducting Meaningful Walkthroughs
LOCATION: 
URL:https://macpa.org/catalog/events/21239180-best-practices-conducting-mea
 ningful-walkthroughs-2026-27-03
DTSTART;TZID=America/New_York:20260327T110000
DTEND;TZID=America/New_York:20260327T130000
END:VEVENT
END:VCALENDAR