BEGIN:VCALENDAR
VERSION:2.0
PRODID:spatie/icalendar-generator
NAME:Advanced Cybersecurity - Beyond the Basics
X-WR-CALNAME:Advanced Cybersecurity - Beyond the Basics
BEGIN:VTIMEZONE
TZID:America/New_York
BEGIN:STANDARD
DTSTART:20251102T010000
TZOFFSETFROM:-0400
TZOFFSETTO:-0500
END:STANDARD
BEGIN:DAYLIGHT
DTSTART:20260308T010000
TZOFFSETFROM:-0500
TZOFFSETTO:-0400
END:DAYLIGHT
END:VTIMEZONE
BEGIN:VTIMEZONE
TZID:UTC
BEGIN:STANDARD
DTSTART:20250727T133013
TZOFFSETFROM:+0000
TZOFFSETTO:+0000
END:STANDARD
END:VTIMEZONE
BEGIN:VEVENT
UID:69ea1ee5af002
DTSTAMP:20260423T133013Z
SUMMARY:Advanced Cybersecurity - Beyond the Basics
LOCATION: 
URL:https://macpa.org/catalog/events/21239023-advanced-cybersecurity-beyond
 -the-basics-2026-27-03
DTSTART;TZID=America/New_York:20260327T090000
DTEND;TZID=America/New_York:20260327T130000
END:VEVENT
END:VCALENDAR