BEGIN:VCALENDAR
VERSION:2.0
PRODID:spatie/icalendar-generator
NAME:AI Prompt Engineering Masterclass for Accountants
X-WR-CALNAME:AI Prompt Engineering Masterclass for Accountants
BEGIN:VTIMEZONE
TZID:America/New_York
BEGIN:STANDARD
DTSTART:20251102T010000
TZOFFSETFROM:-0400
TZOFFSETTO:-0500
END:STANDARD
BEGIN:DAYLIGHT
DTSTART:20260308T010000
TZOFFSETFROM:-0500
TZOFFSETTO:-0400
END:DAYLIGHT
END:VTIMEZONE
BEGIN:VTIMEZONE
TZID:UTC
BEGIN:STANDARD
DTSTART:20250727T094550
TZOFFSETFROM:+0000
TZOFFSETTO:+0000
END:STANDARD
END:VTIMEZONE
BEGIN:VEVENT
UID:69e9ea4eb9667
DTSTAMP:20260423T094550Z
SUMMARY:AI Prompt Engineering Masterclass for Accountants
LOCATION: 
URL:https://macpa.org/catalog/events/21238988-ai-prompt-engineering-masterc
 lass-for-accountants-2026-26-03
DTSTART;TZID=America/New_York:20260326T160000
DTEND;TZID=America/New_York:20260326T180000
END:VEVENT
END:VCALENDAR