BEGIN:VCALENDAR
VERSION:2.0
PRODID:spatie/icalendar-generator
NAME:Navigating IRS Collections: Overview of Form 433 & OIC
X-WR-CALNAME:Navigating IRS Collections: Overview of Form 433 & OIC
BEGIN:VTIMEZONE
TZID:America/New_York
BEGIN:STANDARD
DTSTART:20251102T010000
TZOFFSETFROM:-0400
TZOFFSETTO:-0500
END:STANDARD
BEGIN:DAYLIGHT
DTSTART:20260308T010000
TZOFFSETFROM:-0500
TZOFFSETTO:-0400
END:DAYLIGHT
END:VTIMEZONE
BEGIN:VTIMEZONE
TZID:UTC
BEGIN:STANDARD
DTSTART:20250727T211639
TZOFFSETFROM:+0000
TZOFFSETTO:+0000
END:STANDARD
END:VTIMEZONE
BEGIN:VEVENT
UID:69ea8c378236f
DTSTAMP:20260423T211639Z
SUMMARY:Navigating IRS Collections: Overview of Form 433 & OIC
LOCATION: 
URL:https://macpa.org/catalog/events/21238817-navigating-irs-collections-ov
 erview-of-form-433-oic-2026-12-02
DTSTART;TZID=America/New_York:20260212T133000
DTEND;TZID=America/New_York:20260212T153000
END:VEVENT
END:VCALENDAR