BEGIN:VCALENDAR
VERSION:2.0
PRODID:spatie/icalendar-generator
NAME:Recruit. Retain. Engage. Mastering LinkedIn for HR Success
X-WR-CALNAME:Recruit. Retain. Engage. Mastering LinkedIn for HR Success
BEGIN:VTIMEZONE
TZID:America/New_York
BEGIN:STANDARD
DTSTART:20251102T010000
TZOFFSETFROM:-0400
TZOFFSETTO:-0500
END:STANDARD
BEGIN:DAYLIGHT
DTSTART:20260308T010000
TZOFFSETFROM:-0500
TZOFFSETTO:-0400
END:DAYLIGHT
END:VTIMEZONE
BEGIN:VTIMEZONE
TZID:UTC
BEGIN:STANDARD
DTSTART:20250727T094908
TZOFFSETFROM:+0000
TZOFFSETTO:+0000
END:STANDARD
END:VTIMEZONE
BEGIN:VEVENT
UID:69e9eb14d8c96
DTSTAMP:20260423T094908Z
SUMMARY:Recruit. Retain. Engage. Mastering LinkedIn for HR Success
LOCATION: 
URL:https://macpa.org/catalog/events/21238775-recruit-retain-engage-masteri
 ng-linkedin-for-hr-success-2026-12-02
DTSTART;TZID=America/New_York:20260212T130000
DTEND;TZID=America/New_York:20260212T150000
END:VEVENT
END:VCALENDAR