BEGIN:VCALENDAR
VERSION:2.0
PRODID:spatie/icalendar-generator
NAME:Current Nonprofit Fraud Trends
X-WR-CALNAME:Current Nonprofit Fraud Trends
BEGIN:VTIMEZONE
TZID:America/New_York
BEGIN:STANDARD
DTSTART:20251102T010000
TZOFFSETFROM:-0400
TZOFFSETTO:-0500
END:STANDARD
BEGIN:DAYLIGHT
DTSTART:20260308T010000
TZOFFSETFROM:-0500
TZOFFSETTO:-0400
END:DAYLIGHT
END:VTIMEZONE
BEGIN:VTIMEZONE
TZID:UTC
BEGIN:STANDARD
DTSTART:20250727T134025
TZOFFSETFROM:+0000
TZOFFSETTO:+0000
END:STANDARD
END:VTIMEZONE
BEGIN:VEVENT
UID:69ea2149a960f
DTSTAMP:20260423T134025Z
SUMMARY:Current Nonprofit Fraud Trends
LOCATION: 
URL:https://macpa.org/catalog/events/21238755-current-nonprofit-fraud-trend
 s-2026-26-03
DTSTART;TZID=America/New_York:20260326T120000
DTEND;TZID=America/New_York:20260326T160000
END:VEVENT
END:VCALENDAR