BEGIN:VCALENDAR
VERSION:2.0
PRODID:spatie/icalendar-generator
NAME:Analyzing Financial Statements
X-WR-CALNAME:Analyzing Financial Statements
BEGIN:VTIMEZONE
TZID:America/New_York
BEGIN:STANDARD
DTSTART:20251102T010000
TZOFFSETFROM:-0400
TZOFFSETTO:-0500
END:STANDARD
BEGIN:DAYLIGHT
DTSTART:20260308T010000
TZOFFSETFROM:-0500
TZOFFSETTO:-0400
END:DAYLIGHT
END:VTIMEZONE
BEGIN:VTIMEZONE
TZID:UTC
BEGIN:STANDARD
DTSTART:20250727T162624
TZOFFSETFROM:+0000
TZOFFSETTO:+0000
END:STANDARD
END:VTIMEZONE
BEGIN:VEVENT
UID:69ea483032641
DTSTAMP:20260423T162624Z
SUMMARY:Analyzing Financial Statements
LOCATION: 
URL:https://macpa.org/catalog/events/21238737-analyzing-financial-statement
 s-2026-26-03
DTSTART;TZID=America/New_York:20260326T113000
DTEND;TZID=America/New_York:20260326T133000
END:VEVENT
END:VCALENDAR