BEGIN:VCALENDAR
VERSION:2.0
PRODID:spatie/icalendar-generator
NAME:Money Laundering 101 for CPAs
X-WR-CALNAME:Money Laundering 101 for CPAs
BEGIN:VTIMEZONE
TZID:America/New_York
BEGIN:STANDARD
DTSTART:20251102T010000
TZOFFSETFROM:-0400
TZOFFSETTO:-0500
END:STANDARD
BEGIN:DAYLIGHT
DTSTART:20260308T010000
TZOFFSETFROM:-0500
TZOFFSETTO:-0400
END:DAYLIGHT
END:VTIMEZONE
BEGIN:VTIMEZONE
TZID:UTC
BEGIN:STANDARD
DTSTART:20250727T150440
TZOFFSETFROM:+0000
TZOFFSETTO:+0000
END:STANDARD
END:VTIMEZONE
BEGIN:VEVENT
UID:69ea350840c76
DTSTAMP:20260423T150440Z
SUMMARY:Money Laundering 101 for CPAs
LOCATION: 
URL:https://macpa.org/catalog/events/21238716-money-laundering-101-for-cpas
 -2026-12-02
DTSTART;TZID=America/New_York:20260212T120000
DTEND;TZID=America/New_York:20260212T160000
END:VEVENT
END:VCALENDAR