BEGIN:VCALENDAR
VERSION:2.0
PRODID:spatie/icalendar-generator
NAME:Ethics: IRS Behavioral Insights for Accountants
X-WR-CALNAME:Ethics: IRS Behavioral Insights for Accountants
BEGIN:VTIMEZONE
TZID:America/New_York
BEGIN:STANDARD
DTSTART:20251102T010000
TZOFFSETFROM:-0400
TZOFFSETTO:-0500
END:STANDARD
BEGIN:DAYLIGHT
DTSTART:20260308T010000
TZOFFSETFROM:-0500
TZOFFSETTO:-0400
END:DAYLIGHT
END:VTIMEZONE
BEGIN:VTIMEZONE
TZID:UTC
BEGIN:STANDARD
DTSTART:20250727T094939
TZOFFSETFROM:+0000
TZOFFSETTO:+0000
END:STANDARD
END:VTIMEZONE
BEGIN:VEVENT
UID:69e9eb33aac91
DTSTAMP:20260423T094939Z
SUMMARY:Ethics: IRS Behavioral Insights for Accountants
LOCATION: 
URL:https://macpa.org/catalog/events/21238662-ethics-irs-behavioral-insight
 s-for-accountants-2026-26-03
DTSTART;TZID=America/New_York:20260326T100000
DTEND;TZID=America/New_York:20260326T120000
END:VEVENT
END:VCALENDAR