BEGIN:VCALENDAR
VERSION:2.0
PRODID:spatie/icalendar-generator
NAME:You Don't Know What You Don't Know About Microsoft Excel
X-WR-CALNAME:You Don't Know What You Don't Know About Microsoft Excel
BEGIN:VTIMEZONE
TZID:America/New_York
BEGIN:STANDARD
DTSTART:20251102T010000
TZOFFSETFROM:-0400
TZOFFSETTO:-0500
END:STANDARD
BEGIN:DAYLIGHT
DTSTART:20260308T010000
TZOFFSETFROM:-0500
TZOFFSETTO:-0400
END:DAYLIGHT
END:VTIMEZONE
BEGIN:VTIMEZONE
TZID:UTC
BEGIN:STANDARD
DTSTART:20250727T114228
TZOFFSETFROM:+0000
TZOFFSETTO:+0000
END:STANDARD
END:VTIMEZONE
BEGIN:VEVENT
UID:69ea05a44a105
DTSTAMP:20260423T114228Z
SUMMARY:You Don't Know What You Don't Know About Microsoft Excel
LOCATION: 
URL:https://macpa.org/catalog/events/21238614-you-dont-know-what-you-dont-k
 now-about-microsoft-excel-2026-26-03
DTSTART;TZID=America/New_York:20260326T090000
DTEND;TZID=America/New_York:20260326T170000
END:VEVENT
END:VCALENDAR