BEGIN:VCALENDAR
VERSION:2.0
PRODID:spatie/icalendar-generator
NAME:Accounting for and Auditing Cryptocurrency & Digital Assets
X-WR-CALNAME:Accounting for and Auditing Cryptocurrency & Digital Assets
BEGIN:VTIMEZONE
TZID:America/New_York
BEGIN:STANDARD
DTSTART:20251102T010000
TZOFFSETFROM:-0400
TZOFFSETTO:-0500
END:STANDARD
BEGIN:DAYLIGHT
DTSTART:20260308T010000
TZOFFSETFROM:-0500
TZOFFSETTO:-0400
END:DAYLIGHT
END:VTIMEZONE
BEGIN:VTIMEZONE
TZID:UTC
BEGIN:STANDARD
DTSTART:20250727T133029
TZOFFSETFROM:+0000
TZOFFSETTO:+0000
END:STANDARD
END:VTIMEZONE
BEGIN:VEVENT
UID:69ea1ef536d4b
DTSTAMP:20260423T133029Z
SUMMARY:Accounting for and Auditing Cryptocurrency & Digital Assets
LOCATION: 
URL:https://macpa.org/catalog/events/21238408-accounting-for-and-auditing-c
 ryptocurrency-digital-assets-2026-25-03
DTSTART;TZID=America/New_York:20260325T140000
DTEND;TZID=America/New_York:20260325T160000
END:VEVENT
END:VCALENDAR