BEGIN:VCALENDAR
VERSION:2.0
PRODID:spatie/icalendar-generator
NAME:Complete Guide to Analyze Data with Excel PivotTables
X-WR-CALNAME:Complete Guide to Analyze Data with Excel PivotTables
BEGIN:VTIMEZONE
TZID:America/New_York
BEGIN:STANDARD
DTSTART:20251102T010000
TZOFFSETFROM:-0400
TZOFFSETTO:-0500
END:STANDARD
BEGIN:DAYLIGHT
DTSTART:20260308T010000
TZOFFSETFROM:-0500
TZOFFSETTO:-0400
END:DAYLIGHT
END:VTIMEZONE
BEGIN:VTIMEZONE
TZID:UTC
BEGIN:STANDARD
DTSTART:20250727T095011
TZOFFSETFROM:+0000
TZOFFSETTO:+0000
END:STANDARD
END:VTIMEZONE
BEGIN:VEVENT
UID:69e9eb53d4160
DTSTAMP:20260423T095011Z
SUMMARY:Complete Guide to Analyze Data with Excel PivotTables
LOCATION: 
URL:https://macpa.org/catalog/events/21238229-complete-guide-to-analyze-dat
 a-with-excel-pivottables-2026-25-03
DTSTART;TZID=America/New_York:20260325T110000
DTEND;TZID=America/New_York:20260325T150000
END:VEVENT
END:VCALENDAR