BEGIN:VCALENDAR
VERSION:2.0
PRODID:spatie/icalendar-generator
NAME:Enterprise-Wide Risk Management in Accounting and Finance
X-WR-CALNAME:Enterprise-Wide Risk Management in Accounting and Finance
BEGIN:VTIMEZONE
TZID:America/New_York
BEGIN:STANDARD
DTSTART:20251102T010000
TZOFFSETFROM:-0400
TZOFFSETTO:-0500
END:STANDARD
BEGIN:DAYLIGHT
DTSTART:20260308T010000
TZOFFSETFROM:-0500
TZOFFSETTO:-0400
END:DAYLIGHT
END:VTIMEZONE
BEGIN:VTIMEZONE
TZID:UTC
BEGIN:STANDARD
DTSTART:20250727T064147
TZOFFSETFROM:+0000
TZOFFSETTO:+0000
END:STANDARD
END:VTIMEZONE
BEGIN:VEVENT
UID:69e9bf2bdb9f6
DTSTAMP:20260423T064147Z
SUMMARY:Enterprise-Wide Risk Management in Accounting and Finance
LOCATION: 
URL:https://macpa.org/catalog/events/21238181-enterprise-wide-risk-manageme
 nt-in-accounting-and-finance-2026-11-02
DTSTART;TZID=America/New_York:20260211T113000
DTEND;TZID=America/New_York:20260211T153000
END:VEVENT
END:VCALENDAR