BEGIN:VCALENDAR
VERSION:2.0
PRODID:spatie/icalendar-generator
NAME:How AI Fits into the Accounting World
X-WR-CALNAME:How AI Fits into the Accounting World
BEGIN:VTIMEZONE
TZID:America/New_York
BEGIN:STANDARD
DTSTART:20251102T010000
TZOFFSETFROM:-0400
TZOFFSETTO:-0500
END:STANDARD
BEGIN:DAYLIGHT
DTSTART:20260308T010000
TZOFFSETFROM:-0500
TZOFFSETTO:-0400
END:DAYLIGHT
END:VTIMEZONE
BEGIN:VTIMEZONE
TZID:UTC
BEGIN:STANDARD
DTSTART:20250727T063327
TZOFFSETFROM:+0000
TZOFFSETTO:+0000
END:STANDARD
END:VTIMEZONE
BEGIN:VEVENT
UID:69e9bd37cef8b
DTSTAMP:20260423T063327Z
SUMMARY:How AI Fits into the Accounting World
LOCATION: 
URL:https://macpa.org/catalog/events/21238147-how-ai-fits-into-the-accounti
 ng-world-2026-11-02
DTSTART;TZID=America/New_York:20260211T103000
DTEND;TZID=America/New_York:20260211T123000
END:VEVENT
END:VCALENDAR