BEGIN:VCALENDAR
VERSION:2.0
PRODID:spatie/icalendar-generator
NAME:Deep Dive Into Common Auditing Deficiencies
X-WR-CALNAME:Deep Dive Into Common Auditing Deficiencies
BEGIN:VTIMEZONE
TZID:America/New_York
BEGIN:STANDARD
DTSTART:20251102T010000
TZOFFSETFROM:-0400
TZOFFSETTO:-0500
END:STANDARD
BEGIN:DAYLIGHT
DTSTART:20260308T010000
TZOFFSETFROM:-0500
TZOFFSETTO:-0400
END:DAYLIGHT
END:VTIMEZONE
BEGIN:VTIMEZONE
TZID:UTC
BEGIN:STANDARD
DTSTART:20250727T132854
TZOFFSETFROM:+0000
TZOFFSETTO:+0000
END:STANDARD
END:VTIMEZONE
BEGIN:VEVENT
UID:69ea1e965356e
DTSTAMP:20260423T132854Z
SUMMARY:Deep Dive Into Common Auditing Deficiencies
LOCATION: 
URL:https://macpa.org/catalog/events/21238109-deep-dive-into-common-auditin
 g-deficiencies-2026-25-03
DTSTART;TZID=America/New_York:20260325T090000
DTEND;TZID=America/New_York:20260325T130000
END:VEVENT
END:VCALENDAR