BEGIN:VCALENDAR
VERSION:2.0
PRODID:spatie/icalendar-generator
NAME:ChatGPT and Advanced Accounting Research
X-WR-CALNAME:ChatGPT and Advanced Accounting Research
BEGIN:VTIMEZONE
TZID:America/New_York
BEGIN:STANDARD
DTSTART:20251102T010000
TZOFFSETFROM:-0400
TZOFFSETTO:-0500
END:STANDARD
BEGIN:DAYLIGHT
DTSTART:20260308T010000
TZOFFSETFROM:-0500
TZOFFSETTO:-0400
END:DAYLIGHT
END:VTIMEZONE
BEGIN:VTIMEZONE
TZID:UTC
BEGIN:STANDARD
DTSTART:20250727T064013
TZOFFSETFROM:+0000
TZOFFSETTO:+0000
END:STANDARD
END:VTIMEZONE
BEGIN:VEVENT
UID:69e9becd1bc89
DTSTAMP:20260423T064013Z
SUMMARY:ChatGPT and Advanced Accounting Research
LOCATION: 
URL:https://macpa.org/catalog/events/21238078-chatgpt-and-advanced-accounti
 ng-research-2026-11-02
DTSTART;TZID=America/New_York:20260211T100000
DTEND;TZID=America/New_York:20260211T120000
END:VEVENT
END:VCALENDAR