BEGIN:VCALENDAR
VERSION:2.0
PRODID:spatie/icalendar-generator
NAME:Cultural Transformation
X-WR-CALNAME:Cultural Transformation
BEGIN:VTIMEZONE
TZID:America/New_York
BEGIN:STANDARD
DTSTART:20251102T010000
TZOFFSETFROM:-0400
TZOFFSETTO:-0500
END:STANDARD
BEGIN:DAYLIGHT
DTSTART:20260308T010000
TZOFFSETFROM:-0500
TZOFFSETTO:-0400
END:DAYLIGHT
END:VTIMEZONE
BEGIN:VTIMEZONE
TZID:UTC
BEGIN:STANDARD
DTSTART:20250727T133753
TZOFFSETFROM:+0000
TZOFFSETTO:+0000
END:STANDARD
END:VTIMEZONE
BEGIN:VEVENT
UID:69ea20b1b69c0
DTSTAMP:20260423T133753Z
SUMMARY:Cultural Transformation
LOCATION: 
URL:https://macpa.org/catalog/events/21237756-cultural-transformation-2026-
 24-03
DTSTART;TZID=America/New_York:20260324T093000
DTEND;TZID=America/New_York:20260324T103000
END:VEVENT
END:VCALENDAR