BEGIN:VCALENDAR
VERSION:2.0
PRODID:spatie/icalendar-generator
NAME:S Corporations: Calculating Shareholder Basis
X-WR-CALNAME:S Corporations: Calculating Shareholder Basis
BEGIN:VTIMEZONE
TZID:America/New_York
BEGIN:STANDARD
DTSTART:20251102T010000
TZOFFSETFROM:-0400
TZOFFSETTO:-0500
END:STANDARD
BEGIN:DAYLIGHT
DTSTART:20260308T010000
TZOFFSETFROM:-0500
TZOFFSETTO:-0400
END:DAYLIGHT
END:VTIMEZONE
BEGIN:VTIMEZONE
TZID:UTC
BEGIN:STANDARD
DTSTART:20250727T094550
TZOFFSETFROM:+0000
TZOFFSETTO:+0000
END:STANDARD
END:VTIMEZONE
BEGIN:VEVENT
UID:69e9ea4eb60b7
DTSTAMP:20260423T094550Z
SUMMARY:S Corporations: Calculating Shareholder Basis
LOCATION: 
URL:https://macpa.org/catalog/events/21237726-s-corporations-calculating-sh
 areholder-basis-2026-24-03
DTSTART;TZID=America/New_York:20260324T090000
DTEND;TZID=America/New_York:20260324T110000
END:VEVENT
END:VCALENDAR