BEGIN:VCALENDAR
VERSION:2.0
PRODID:spatie/icalendar-generator
NAME:2025 Annual Update for Governments & Not-for-Profits
X-WR-CALNAME:2025 Annual Update for Governments & Not-for-Profits
BEGIN:VTIMEZONE
TZID:America/New_York
BEGIN:STANDARD
DTSTART:20251102T010000
TZOFFSETFROM:-0400
TZOFFSETTO:-0500
END:STANDARD
BEGIN:DAYLIGHT
DTSTART:20260308T010000
TZOFFSETFROM:-0500
TZOFFSETTO:-0400
END:DAYLIGHT
END:VTIMEZONE
BEGIN:VTIMEZONE
TZID:UTC
BEGIN:STANDARD
DTSTART:20250727T094737
TZOFFSETFROM:+0000
TZOFFSETTO:+0000
END:STANDARD
END:VTIMEZONE
BEGIN:VEVENT
UID:69e9eab96decf
DTSTAMP:20260423T094737Z
SUMMARY:2025 Annual Update for Governments & Not-for-Profits
LOCATION: 
URL:https://macpa.org/catalog/events/21237668-2025-annual-update-for-govern
 ments-not-for-profits-2026-24-03
DTSTART;TZID=America/New_York:20260324T090000
DTEND;TZID=America/New_York:20260324T170000
END:VEVENT
END:VCALENDAR