BEGIN:VCALENDAR
VERSION:2.0
PRODID:spatie/icalendar-generator
NAME:Using ChatGPT with Excel
X-WR-CALNAME:Using ChatGPT with Excel
BEGIN:VTIMEZONE
TZID:America/New_York
BEGIN:STANDARD
DTSTART:20251102T010000
TZOFFSETFROM:-0400
TZOFFSETTO:-0500
END:STANDARD
BEGIN:DAYLIGHT
DTSTART:20260308T010000
TZOFFSETFROM:-0500
TZOFFSETTO:-0400
END:DAYLIGHT
END:VTIMEZONE
BEGIN:VTIMEZONE
TZID:UTC
BEGIN:STANDARD
DTSTART:20250726T194724
TZOFFSETFROM:+0000
TZOFFSETTO:+0000
END:STANDARD
END:VTIMEZONE
BEGIN:VEVENT
UID:69e925cc62f9c
DTSTAMP:20260422T194724Z
SUMMARY:Using ChatGPT with Excel
LOCATION: 
URL:https://macpa.org/catalog/events/21237622-using-chatgpt-with-excel-2026
 -10-02
DTSTART;TZID=America/New_York:20260210T100000
DTEND;TZID=America/New_York:20260210T120000
END:VEVENT
END:VCALENDAR