BEGIN:VCALENDAR
VERSION:2.0
PRODID:spatie/icalendar-generator
NAME:Advanced ChatGPT for Accountants
X-WR-CALNAME:Advanced ChatGPT for Accountants
BEGIN:VTIMEZONE
TZID:America/New_York
BEGIN:STANDARD
DTSTART:20251102T010000
TZOFFSETFROM:-0400
TZOFFSETTO:-0500
END:STANDARD
BEGIN:DAYLIGHT
DTSTART:20260308T010000
TZOFFSETFROM:-0500
TZOFFSETTO:-0400
END:DAYLIGHT
END:VTIMEZONE
BEGIN:VTIMEZONE
TZID:UTC
BEGIN:STANDARD
DTSTART:20250727T150209
TZOFFSETFROM:+0000
TZOFFSETTO:+0000
END:STANDARD
END:VTIMEZONE
BEGIN:VEVENT
UID:69ea347118c24
DTSTAMP:20260423T150209Z
SUMMARY:Advanced ChatGPT for Accountants
LOCATION: 
URL:https://macpa.org/catalog/events/21237621-advanced-chatgpt-for-accounta
 nts-2026-23-03
DTSTART;TZID=America/New_York:20260323T153000
DTEND;TZID=America/New_York:20260323T173000
END:VEVENT
END:VCALENDAR