BEGIN:VCALENDAR
VERSION:2.0
PRODID:spatie/icalendar-generator
NAME:PPP Fraud and Financial Professionals
X-WR-CALNAME:PPP Fraud and Financial Professionals
BEGIN:VTIMEZONE
TZID:America/New_York
BEGIN:STANDARD
DTSTART:20251102T010000
TZOFFSETFROM:-0400
TZOFFSETTO:-0500
END:STANDARD
BEGIN:DAYLIGHT
DTSTART:20260308T010000
TZOFFSETFROM:-0500
TZOFFSETTO:-0400
END:DAYLIGHT
END:VTIMEZONE
BEGIN:VTIMEZONE
TZID:UTC
BEGIN:STANDARD
DTSTART:20250727T094539
TZOFFSETFROM:+0000
TZOFFSETTO:+0000
END:STANDARD
END:VTIMEZONE
BEGIN:VEVENT
UID:69e9ea43b3e4c
DTSTAMP:20260423T094539Z
SUMMARY:PPP Fraud and Financial Professionals
LOCATION: 
URL:https://macpa.org/catalog/events/21237602-ppp-fraud-and-financial-profe
 ssionals-2026-23-03
DTSTART;TZID=America/New_York:20260323T150000
DTEND;TZID=America/New_York:20260323T170000
END:VEVENT
END:VCALENDAR