BEGIN:VCALENDAR
VERSION:2.0
PRODID:spatie/icalendar-generator
NAME:Avoiding the Most Misapplied Audit Concepts
X-WR-CALNAME:Avoiding the Most Misapplied Audit Concepts
BEGIN:VTIMEZONE
TZID:America/New_York
BEGIN:STANDARD
DTSTART:20251102T010000
TZOFFSETFROM:-0400
TZOFFSETTO:-0500
END:STANDARD
BEGIN:DAYLIGHT
DTSTART:20260308T010000
TZOFFSETFROM:-0500
TZOFFSETTO:-0400
END:DAYLIGHT
END:VTIMEZONE
BEGIN:VTIMEZONE
TZID:UTC
BEGIN:STANDARD
DTSTART:20250726T194902
TZOFFSETFROM:+0000
TZOFFSETTO:+0000
END:STANDARD
END:VTIMEZONE
BEGIN:VEVENT
UID:69e9262eceaee
DTSTAMP:20260422T194902Z
SUMMARY:Avoiding the Most Misapplied Audit Concepts
LOCATION: 
URL:https://macpa.org/catalog/events/21237587-avoiding-the-most-misapplied-
 audit-concepts-2026-10-02
DTSTART;TZID=America/New_York:20260210T100000
DTEND;TZID=America/New_York:20260210T180000
END:VEVENT
END:VCALENDAR