BEGIN:VCALENDAR
VERSION:2.0
PRODID:spatie/icalendar-generator
NAME:CFO & Controller Critical Skills: Budgeting & Forecasting
X-WR-CALNAME:CFO & Controller Critical Skills: Budgeting & Forecasting
BEGIN:VTIMEZONE
TZID:America/New_York
BEGIN:STANDARD
DTSTART:20251102T010000
TZOFFSETFROM:-0400
TZOFFSETTO:-0500
END:STANDARD
BEGIN:DAYLIGHT
DTSTART:20260308T010000
TZOFFSETFROM:-0500
TZOFFSETTO:-0400
END:DAYLIGHT
END:VTIMEZONE
BEGIN:VTIMEZONE
TZID:UTC
BEGIN:STANDARD
DTSTART:20250727T132855
TZOFFSETFROM:+0000
TZOFFSETTO:+0000
END:STANDARD
END:VTIMEZONE
BEGIN:VEVENT
UID:69ea1e97796c6
DTSTAMP:20260423T132855Z
SUMMARY:CFO & Controller Critical Skills: Budgeting & Forecasting
LOCATION: 
URL:https://macpa.org/catalog/events/21237541-cfo-controller-critical-skill
 s-budgeting-forecasting-2026-23-03
DTSTART;TZID=America/New_York:20260323T140000
DTEND;TZID=America/New_York:20260323T160000
END:VEVENT
END:VCALENDAR