BEGIN:VCALENDAR
VERSION:2.0
PRODID:spatie/icalendar-generator
NAME:Ethical AI Practices for CPAs: Ensuring Responsible Use
X-WR-CALNAME:Ethical AI Practices for CPAs: Ensuring Responsible Use
BEGIN:VTIMEZONE
TZID:America/New_York
BEGIN:STANDARD
DTSTART:20251102T010000
TZOFFSETFROM:-0400
TZOFFSETTO:-0500
END:STANDARD
BEGIN:DAYLIGHT
DTSTART:20260308T010000
TZOFFSETFROM:-0500
TZOFFSETTO:-0400
END:DAYLIGHT
END:VTIMEZONE
BEGIN:VTIMEZONE
TZID:UTC
BEGIN:STANDARD
DTSTART:20250727T094417
TZOFFSETFROM:+0000
TZOFFSETTO:+0000
END:STANDARD
END:VTIMEZONE
BEGIN:VEVENT
UID:69e9e9f1a01ee
DTSTAMP:20260423T094417Z
SUMMARY:Ethical AI Practices for CPAs: Ensuring Responsible Use
LOCATION: 
URL:https://macpa.org/catalog/events/21237522-ethical-ai-practices-for-cpas
 -ensuring-responsible-use-2026-23-03
DTSTART;TZID=America/New_York:20260323T133000
DTEND;TZID=America/New_York:20260323T153000
END:VEVENT
END:VCALENDAR