BEGIN:VCALENDAR
VERSION:2.0
PRODID:spatie/icalendar-generator
NAME:What You Can Learn From the Statement of Cash Flows
X-WR-CALNAME:What You Can Learn From the Statement of Cash Flows
BEGIN:VTIMEZONE
TZID:America/New_York
BEGIN:STANDARD
DTSTART:20251102T010000
TZOFFSETFROM:-0400
TZOFFSETTO:-0500
END:STANDARD
BEGIN:DAYLIGHT
DTSTART:20260308T010000
TZOFFSETFROM:-0500
TZOFFSETTO:-0400
END:DAYLIGHT
END:VTIMEZONE
BEGIN:VTIMEZONE
TZID:UTC
BEGIN:STANDARD
DTSTART:20250727T094638
TZOFFSETFROM:+0000
TZOFFSETTO:+0000
END:STANDARD
END:VTIMEZONE
BEGIN:VEVENT
UID:69e9ea7ed8524
DTSTAMP:20260423T094638Z
SUMMARY:What You Can Learn From the Statement of Cash Flows
LOCATION: 
URL:https://macpa.org/catalog/events/21237471-what-you-can-learn-from-the-s
 tatement-of-cash-flows-2026-23-03
DTSTART;TZID=America/New_York:20260323T123000
DTEND;TZID=America/New_York:20260323T143000
END:VEVENT
END:VCALENDAR