BEGIN:VCALENDAR
VERSION:2.0
PRODID:spatie/icalendar-generator
NAME:ChatGPT and IRS Taxation Law Research
X-WR-CALNAME:ChatGPT and IRS Taxation Law Research
BEGIN:VTIMEZONE
TZID:America/New_York
BEGIN:STANDARD
DTSTART:20251102T010000
TZOFFSETFROM:-0400
TZOFFSETTO:-0500
END:STANDARD
BEGIN:DAYLIGHT
DTSTART:20260308T010000
TZOFFSETFROM:-0500
TZOFFSETTO:-0400
END:DAYLIGHT
END:VTIMEZONE
BEGIN:VTIMEZONE
TZID:UTC
BEGIN:STANDARD
DTSTART:20250727T150329
TZOFFSETFROM:+0000
TZOFFSETTO:+0000
END:STANDARD
END:VTIMEZONE
BEGIN:VEVENT
UID:69ea34c1601bc
DTSTAMP:20260423T150329Z
SUMMARY:ChatGPT and IRS Taxation Law Research
LOCATION: 
URL:https://macpa.org/catalog/events/21236851-chatgpt-and-irs-taxation-law-
 research-2026-20-03
DTSTART;TZID=America/New_York:20260320T093000
DTEND;TZID=America/New_York:20260320T113000
END:VEVENT
END:VCALENDAR