BEGIN:VCALENDAR
VERSION:2.0
PRODID:spatie/icalendar-generator
NAME:Managing Current Fraud Trends in a Shifting Environment
X-WR-CALNAME:Managing Current Fraud Trends in a Shifting Environment
BEGIN:VTIMEZONE
TZID:America/New_York
BEGIN:STANDARD
DTSTART:20251102T010000
TZOFFSETFROM:-0400
TZOFFSETTO:-0500
END:STANDARD
BEGIN:DAYLIGHT
DTSTART:20260308T010000
TZOFFSETFROM:-0500
TZOFFSETTO:-0400
END:DAYLIGHT
END:VTIMEZONE
BEGIN:VTIMEZONE
TZID:UTC
BEGIN:STANDARD
DTSTART:20250727T094600
TZOFFSETFROM:+0000
TZOFFSETTO:+0000
END:STANDARD
END:VTIMEZONE
BEGIN:VEVENT
UID:69e9ea589435b
DTSTAMP:20260423T094600Z
SUMMARY:Managing Current Fraud Trends in a Shifting Environment
LOCATION: 
URL:https://macpa.org/catalog/events/21236823-managing-current-fraud-trends
 -in-a-shifting-environment-2026-20-03
DTSTART;TZID=America/New_York:20260320T090000
DTEND;TZID=America/New_York:20260320T170000
END:VEVENT
END:VCALENDAR