BEGIN:VCALENDAR
VERSION:2.0
PRODID:spatie/icalendar-generator
NAME:The Art of Engaging in Difficult Conversations
X-WR-CALNAME:The Art of Engaging in Difficult Conversations
BEGIN:VTIMEZONE
TZID:America/New_York
BEGIN:STANDARD
DTSTART:20251102T010000
TZOFFSETFROM:-0400
TZOFFSETTO:-0500
END:STANDARD
BEGIN:DAYLIGHT
DTSTART:20260308T010000
TZOFFSETFROM:-0500
TZOFFSETTO:-0400
END:DAYLIGHT
END:VTIMEZONE
BEGIN:VTIMEZONE
TZID:UTC
BEGIN:STANDARD
DTSTART:20250727T150330
TZOFFSETFROM:+0000
TZOFFSETTO:+0000
END:STANDARD
END:VTIMEZONE
BEGIN:VEVENT
UID:69ea34c2e60b8
DTSTAMP:20260423T150330Z
SUMMARY:The Art of Engaging in Difficult Conversations
LOCATION: 
URL:https://macpa.org/catalog/events/21236720-the-art-of-engaging-in-diffic
 ult-conversations-2026-19-03
DTSTART;TZID=America/New_York:20260319T153000
DTEND;TZID=America/New_York:20260319T173000
END:VEVENT
END:VCALENDAR