BEGIN:VCALENDAR
VERSION:2.0
PRODID:spatie/icalendar-generator
NAME:Technology Trends Update for CPAs with John Higgins
X-WR-CALNAME:Technology Trends Update for CPAs with John Higgins
BEGIN:VTIMEZONE
TZID:America/New_York
BEGIN:STANDARD
DTSTART:20251102T010000
TZOFFSETFROM:-0400
TZOFFSETTO:-0500
END:STANDARD
BEGIN:DAYLIGHT
DTSTART:20260308T010000
TZOFFSETFROM:-0500
TZOFFSETTO:-0400
END:DAYLIGHT
END:VTIMEZONE
BEGIN:VTIMEZONE
TZID:UTC
BEGIN:STANDARD
DTSTART:20250727T094648
TZOFFSETFROM:+0000
TZOFFSETTO:+0000
END:STANDARD
END:VTIMEZONE
BEGIN:VEVENT
UID:69e9ea8828b73
DTSTAMP:20260423T094648Z
SUMMARY:Technology Trends Update for CPAs with John Higgins
LOCATION: 
URL:https://macpa.org/catalog/events/21236388-technology-trends-update-for-
 cpas-with-john-higgins-2026-19-03
DTSTART;TZID=America/New_York:20260319T090000
DTEND;TZID=America/New_York:20260319T130000
END:VEVENT
END:VCALENDAR