BEGIN:VCALENDAR
VERSION:2.0
PRODID:spatie/icalendar-generator
NAME:Finding Errors in Excel Spreadsheets
X-WR-CALNAME:Finding Errors in Excel Spreadsheets
BEGIN:VTIMEZONE
TZID:America/New_York
BEGIN:STANDARD
DTSTART:20251102T010000
TZOFFSETFROM:-0400
TZOFFSETTO:-0500
END:STANDARD
BEGIN:DAYLIGHT
DTSTART:20260308T010000
TZOFFSETFROM:-0500
TZOFFSETTO:-0400
END:DAYLIGHT
END:VTIMEZONE
BEGIN:VTIMEZONE
TZID:UTC
BEGIN:STANDARD
DTSTART:20250727T180550
TZOFFSETFROM:+0000
TZOFFSETTO:+0000
END:STANDARD
END:VTIMEZONE
BEGIN:VEVENT
UID:69ea5f7edaf53
DTSTAMP:20260423T180550Z
SUMMARY:Finding Errors in Excel Spreadsheets
LOCATION: 
URL:https://macpa.org/catalog/events/21236278-finding-errors-in-excel-sprea
 dsheets-2026-18-03
DTSTART;TZID=America/New_York:20260318T153000
DTEND;TZID=America/New_York:20260318T173000
END:VEVENT
END:VCALENDAR