BEGIN:VCALENDAR
VERSION:2.0
PRODID:spatie/icalendar-generator
NAME:Operations Level Internal Control
X-WR-CALNAME:Operations Level Internal Control
BEGIN:VTIMEZONE
TZID:America/New_York
BEGIN:STANDARD
DTSTART:20251102T010000
TZOFFSETFROM:-0400
TZOFFSETTO:-0500
END:STANDARD
BEGIN:DAYLIGHT
DTSTART:20260308T010000
TZOFFSETFROM:-0500
TZOFFSETTO:-0400
END:DAYLIGHT
END:VTIMEZONE
BEGIN:VTIMEZONE
TZID:UTC
BEGIN:STANDARD
DTSTART:20250727T132443
TZOFFSETFROM:+0000
TZOFFSETTO:+0000
END:STANDARD
END:VTIMEZONE
BEGIN:VEVENT
UID:69ea1d9bcc9cd
DTSTAMP:20260423T132443Z
SUMMARY:Operations Level Internal Control
LOCATION: 
URL:https://macpa.org/catalog/events/21236226-operations-level-internal-con
 trol-2026-18-03
DTSTART;TZID=America/New_York:20260318T140000
DTEND;TZID=America/New_York:20260318T180000
END:VEVENT
END:VCALENDAR