BEGIN:VCALENDAR
VERSION:2.0
PRODID:spatie/icalendar-generator
NAME:Behind the Curtain: Exploring IRS Audit Technique Guides
X-WR-CALNAME:Behind the Curtain: Exploring IRS Audit Technique Guides
BEGIN:VTIMEZONE
TZID:America/New_York
BEGIN:STANDARD
DTSTART:20251102T010000
TZOFFSETFROM:-0400
TZOFFSETTO:-0500
END:STANDARD
BEGIN:DAYLIGHT
DTSTART:20260308T010000
TZOFFSETFROM:-0500
TZOFFSETTO:-0400
END:DAYLIGHT
END:VTIMEZONE
BEGIN:VTIMEZONE
TZID:UTC
BEGIN:STANDARD
DTSTART:20250727T181247
TZOFFSETFROM:+0000
TZOFFSETTO:+0000
END:STANDARD
END:VTIMEZONE
BEGIN:VEVENT
UID:69ea611f11297
DTSTAMP:20260423T181247Z
SUMMARY:Behind the Curtain: Exploring IRS Audit Technique Guides
LOCATION: 
URL:https://macpa.org/catalog/events/21236065-behind-the-curtain-exploring-
 irs-audit-technique-guides-2026-18-03
DTSTART;TZID=America/New_York:20260318T113000
DTEND;TZID=America/New_York:20260318T133000
END:VEVENT
END:VCALENDAR