BEGIN:VCALENDAR
VERSION:2.0
PRODID:spatie/icalendar-generator
NAME:Advanced Cybersecurity - Beyond the Basics
X-WR-CALNAME:Advanced Cybersecurity - Beyond the Basics
BEGIN:VTIMEZONE
TZID:America/New_York
BEGIN:STANDARD
DTSTART:20251102T010000
TZOFFSETFROM:-0400
TZOFFSETTO:-0500
END:STANDARD
BEGIN:DAYLIGHT
DTSTART:20260308T010000
TZOFFSETFROM:-0500
TZOFFSETTO:-0400
END:DAYLIGHT
END:VTIMEZONE
BEGIN:VTIMEZONE
TZID:UTC
BEGIN:STANDARD
DTSTART:20250727T094438
TZOFFSETFROM:+0000
TZOFFSETTO:+0000
END:STANDARD
END:VTIMEZONE
BEGIN:VEVENT
UID:69e9ea065a0ba
DTSTAMP:20260423T094438Z
SUMMARY:Advanced Cybersecurity - Beyond the Basics
LOCATION: 
URL:https://macpa.org/catalog/events/21236012-advanced-cybersecurity-beyond
 -the-basics-2026-18-03
DTSTART;TZID=America/New_York:20260318T110000
DTEND;TZID=America/New_York:20260318T150000
END:VEVENT
END:VCALENDAR