BEGIN:VCALENDAR
VERSION:2.0
PRODID:spatie/icalendar-generator
NAME:Understanding the New Forms K-2 and K-3
X-WR-CALNAME:Understanding the New Forms K-2 and K-3
BEGIN:VTIMEZONE
TZID:America/New_York
BEGIN:STANDARD
DTSTART:20251102T010000
TZOFFSETFROM:-0400
TZOFFSETTO:-0500
END:STANDARD
BEGIN:DAYLIGHT
DTSTART:20260308T010000
TZOFFSETFROM:-0500
TZOFFSETTO:-0400
END:DAYLIGHT
END:VTIMEZONE
BEGIN:VTIMEZONE
TZID:UTC
BEGIN:STANDARD
DTSTART:20250727T095012
TZOFFSETFROM:+0000
TZOFFSETTO:+0000
END:STANDARD
END:VTIMEZONE
BEGIN:VEVENT
UID:69e9eb541a547
DTSTAMP:20260423T095012Z
SUMMARY:Understanding the New Forms K-2 and K-3
LOCATION: 
URL:https://macpa.org/catalog/events/21235701-understanding-the-new-forms-k
 -2-and-k-3-2026-17-03
DTSTART;TZID=America/New_York:20260317T133000
DTEND;TZID=America/New_York:20260317T153000
END:VEVENT
END:VCALENDAR