BEGIN:VCALENDAR
VERSION:2.0
PRODID:spatie/icalendar-generator
NAME:Tactics to Find Work Life Balance in a Complex World
X-WR-CALNAME:Tactics to Find Work Life Balance in a Complex World
BEGIN:VTIMEZONE
TZID:America/New_York
BEGIN:STANDARD
DTSTART:20251102T010000
TZOFFSETFROM:-0400
TZOFFSETTO:-0500
END:STANDARD
BEGIN:DAYLIGHT
DTSTART:20260308T010000
TZOFFSETFROM:-0500
TZOFFSETTO:-0400
END:DAYLIGHT
END:VTIMEZONE
BEGIN:VTIMEZONE
TZID:UTC
BEGIN:STANDARD
DTSTART:20250727T094601
TZOFFSETFROM:+0000
TZOFFSETTO:+0000
END:STANDARD
END:VTIMEZONE
BEGIN:VEVENT
UID:69e9ea592eed7
DTSTAMP:20260423T094601Z
SUMMARY:Tactics to Find Work Life Balance in a Complex World
LOCATION: 
URL:https://macpa.org/catalog/events/21235686-tactics-to-find-work-life-bal
 ance-in-a-complex-world-2026-17-03
DTSTART;TZID=America/New_York:20260317T130000
DTEND;TZID=America/New_York:20260317T140000
END:VEVENT
END:VCALENDAR