BEGIN:VCALENDAR
VERSION:2.0
PRODID:spatie/icalendar-generator
NAME:Todd and Julie Chrisley Go to Prison
X-WR-CALNAME:Todd and Julie Chrisley Go to Prison
BEGIN:VTIMEZONE
TZID:America/New_York
BEGIN:STANDARD
DTSTART:20251102T010000
TZOFFSETFROM:-0400
TZOFFSETTO:-0500
END:STANDARD
BEGIN:DAYLIGHT
DTSTART:20260308T010000
TZOFFSETFROM:-0500
TZOFFSETTO:-0400
END:DAYLIGHT
END:VTIMEZONE
BEGIN:VTIMEZONE
TZID:UTC
BEGIN:STANDARD
DTSTART:20250727T094427
TZOFFSETFROM:+0000
TZOFFSETTO:+0000
END:STANDARD
END:VTIMEZONE
BEGIN:VEVENT
UID:69e9e9fb6240e
DTSTAMP:20260423T094427Z
SUMMARY:Todd and Julie Chrisley Go to Prison
LOCATION: 
URL:https://macpa.org/catalog/events/21235620-todd-and-julie-chrisley-go-to
 -prison-2026-17-03
DTSTART;TZID=America/New_York:20260317T120000
DTEND;TZID=America/New_York:20260317T140000
END:VEVENT
END:VCALENDAR