BEGIN:VCALENDAR
VERSION:2.0
PRODID:spatie/icalendar-generator
NAME:How to Build a Custom AI Chatbot and GPT in Plain English
X-WR-CALNAME:How to Build a Custom AI Chatbot and GPT in Plain English
BEGIN:VTIMEZONE
TZID:America/New_York
BEGIN:STANDARD
DTSTART:20251102T010000
TZOFFSETFROM:-0400
TZOFFSETTO:-0500
END:STANDARD
BEGIN:DAYLIGHT
DTSTART:20260308T010000
TZOFFSETFROM:-0500
TZOFFSETTO:-0400
END:DAYLIGHT
BEGIN:STANDARD
DTSTART:20261101T010000
TZOFFSETFROM:-0400
TZOFFSETTO:-0500
END:STANDARD
END:VTIMEZONE
BEGIN:VTIMEZONE
TZID:UTC
BEGIN:STANDARD
DTSTART:20250727T094427
TZOFFSETFROM:+0000
TZOFFSETTO:+0000
END:STANDARD
END:VTIMEZONE
BEGIN:VEVENT
UID:69e9e9fb61222
DTSTAMP:20260423T094427Z
SUMMARY:How to Build a Custom AI Chatbot and GPT in Plain English
LOCATION: 
URL:https://macpa.org/catalog/events/21235601-how-to-build-a-custom-ai-chat
 bot-and-gpt-in-plain-english-2026-30-04
DTSTART;TZID=America/New_York:20260430T153000
DTEND;TZID=America/New_York:20260430T173000
END:VEVENT
END:VCALENDAR