BEGIN:VCALENDAR
VERSION:2.0
PRODID:spatie/icalendar-generator
NAME:Coaching the Next Generation of CPAs
X-WR-CALNAME:Coaching the Next Generation of CPAs
BEGIN:VTIMEZONE
TZID:America/New_York
BEGIN:STANDARD
DTSTART:20251102T010000
TZOFFSETFROM:-0400
TZOFFSETTO:-0500
END:STANDARD
BEGIN:DAYLIGHT
DTSTART:20260308T010000
TZOFFSETFROM:-0500
TZOFFSETTO:-0400
END:DAYLIGHT
END:VTIMEZONE
BEGIN:VTIMEZONE
TZID:UTC
BEGIN:STANDARD
DTSTART:20250727T094818
TZOFFSETFROM:+0000
TZOFFSETTO:+0000
END:STANDARD
END:VTIMEZONE
BEGIN:VEVENT
UID:69e9eae2043d4
DTSTAMP:20260423T094818Z
SUMMARY:Coaching the Next Generation of CPAs
LOCATION: 
URL:https://macpa.org/catalog/events/21235490-coaching-the-next-generation-
 of-cpas-2026-17-03
DTSTART;TZID=America/New_York:20260317T103000
DTEND;TZID=America/New_York:20260317T123000
END:VEVENT
END:VCALENDAR