BEGIN:VCALENDAR
VERSION:2.0
PRODID:spatie/icalendar-generator
NAME:Get started with Power BI
X-WR-CALNAME:Get started with Power BI
BEGIN:VTIMEZONE
TZID:America/New_York
BEGIN:STANDARD
DTSTART:20251102T010000
TZOFFSETFROM:-0400
TZOFFSETTO:-0500
END:STANDARD
BEGIN:DAYLIGHT
DTSTART:20260308T010000
TZOFFSETFROM:-0500
TZOFFSETTO:-0400
END:DAYLIGHT
END:VTIMEZONE
BEGIN:VTIMEZONE
TZID:UTC
BEGIN:STANDARD
DTSTART:20250727T162542
TZOFFSETFROM:+0000
TZOFFSETTO:+0000
END:STANDARD
END:VTIMEZONE
BEGIN:VEVENT
UID:69ea48064c37a
DTSTAMP:20260423T162542Z
SUMMARY:Get started with Power BI
LOCATION: 
URL:https://macpa.org/catalog/events/21235454-get-started-with-power-bi-202
 6-17-03
DTSTART;TZID=America/New_York:20260317T100000
DTEND;TZID=America/New_York:20260317T120000
END:VEVENT
END:VCALENDAR