BEGIN:VCALENDAR
VERSION:2.0
PRODID:spatie/icalendar-generator
NAME:Grading Your Auditors - Are You Getting the Most Value?
X-WR-CALNAME:Grading Your Auditors - Are You Getting the Most Value?
BEGIN:VTIMEZONE
TZID:America/New_York
BEGIN:STANDARD
DTSTART:20251102T010000
TZOFFSETFROM:-0400
TZOFFSETTO:-0500
END:STANDARD
BEGIN:DAYLIGHT
DTSTART:20260308T010000
TZOFFSETFROM:-0500
TZOFFSETTO:-0400
END:DAYLIGHT
BEGIN:STANDARD
DTSTART:20261101T010000
TZOFFSETFROM:-0400
TZOFFSETTO:-0500
END:STANDARD
END:VTIMEZONE
BEGIN:VTIMEZONE
TZID:UTC
BEGIN:STANDARD
DTSTART:20250727T132951
TZOFFSETFROM:+0000
TZOFFSETTO:+0000
END:STANDARD
END:VTIMEZONE
BEGIN:VEVENT
UID:69ea1ecf15d29
DTSTAMP:20260423T132951Z
SUMMARY:Grading Your Auditors - Are You Getting the Most Value?
LOCATION: 
URL:https://macpa.org/catalog/events/21235404-grading-your-auditors-are-you
 -getting-the-most-value-2026-30-04
DTSTART;TZID=America/New_York:20260430T123000
DTEND;TZID=America/New_York:20260430T143000
END:VEVENT
END:VCALENDAR