BEGIN:VCALENDAR
VERSION:2.0
PRODID:spatie/icalendar-generator
NAME:Technology Trends Update for CPAs with John Higgins
X-WR-CALNAME:Technology Trends Update for CPAs with John Higgins
BEGIN:VTIMEZONE
TZID:America/New_York
BEGIN:STANDARD
DTSTART:20251102T010000
TZOFFSETFROM:-0400
TZOFFSETTO:-0500
END:STANDARD
BEGIN:DAYLIGHT
DTSTART:20260308T010000
TZOFFSETFROM:-0500
TZOFFSETTO:-0400
END:DAYLIGHT
BEGIN:STANDARD
DTSTART:20261101T010000
TZOFFSETFROM:-0400
TZOFFSETTO:-0500
END:STANDARD
END:VTIMEZONE
BEGIN:VTIMEZONE
TZID:UTC
BEGIN:STANDARD
DTSTART:20250727T163705
TZOFFSETFROM:+0000
TZOFFSETTO:+0000
END:STANDARD
END:VTIMEZONE
BEGIN:VEVENT
UID:69ea4ab1bb5a8
DTSTAMP:20260423T163705Z
SUMMARY:Technology Trends Update for CPAs with John Higgins
LOCATION: 
URL:https://macpa.org/catalog/events/21235310-technology-trends-update-for-
 cpas-with-john-higgins-2026-30-04
DTSTART;TZID=America/New_York:20260430T113000
DTEND;TZID=America/New_York:20260430T153000
END:VEVENT
END:VCALENDAR