BEGIN:VCALENDAR
VERSION:2.0
PRODID:spatie/icalendar-generator
NAME:Navigating IRS Collections: The Collection Process
X-WR-CALNAME:Navigating IRS Collections: The Collection Process
BEGIN:VTIMEZONE
TZID:America/New_York
BEGIN:STANDARD
DTSTART:20251102T010000
TZOFFSETFROM:-0400
TZOFFSETTO:-0500
END:STANDARD
BEGIN:DAYLIGHT
DTSTART:20260308T010000
TZOFFSETFROM:-0500
TZOFFSETTO:-0400
END:DAYLIGHT
BEGIN:STANDARD
DTSTART:20261101T010000
TZOFFSETFROM:-0400
TZOFFSETTO:-0500
END:STANDARD
END:VTIMEZONE
BEGIN:VTIMEZONE
TZID:UTC
BEGIN:STANDARD
DTSTART:20250727T132848
TZOFFSETFROM:+0000
TZOFFSETTO:+0000
END:STANDARD
END:VTIMEZONE
BEGIN:VEVENT
UID:69ea1e90050bf
DTSTAMP:20260423T132848Z
SUMMARY:Navigating IRS Collections: The Collection Process
LOCATION: 
URL:https://macpa.org/catalog/events/21235246-navigating-irs-collections-th
 e-collection-process-2026-30-04
DTSTART;TZID=America/New_York:20260430T103000
DTEND;TZID=America/New_York:20260430T123000
END:VEVENT
END:VCALENDAR