BEGIN:VCALENDAR
VERSION:2.0
PRODID:spatie/icalendar-generator
NAME:AI Lessons Learned for Accountants
X-WR-CALNAME:AI Lessons Learned for Accountants
BEGIN:VTIMEZONE
TZID:America/New_York
BEGIN:STANDARD
DTSTART:20251102T010000
TZOFFSETFROM:-0400
TZOFFSETTO:-0500
END:STANDARD
BEGIN:DAYLIGHT
DTSTART:20260308T010000
TZOFFSETFROM:-0500
TZOFFSETTO:-0400
END:DAYLIGHT
END:VTIMEZONE
BEGIN:VTIMEZONE
TZID:UTC
BEGIN:STANDARD
DTSTART:20250727T094836
TZOFFSETFROM:+0000
TZOFFSETTO:+0000
END:STANDARD
END:VTIMEZONE
BEGIN:VEVENT
UID:69e9eaf43c797
DTSTAMP:20260423T094836Z
SUMMARY:AI Lessons Learned for Accountants
LOCATION: 
URL:https://macpa.org/catalog/events/21235029-ai-lessons-learned-for-accoun
 tants-2026-29-04
DTSTART;TZID=America/New_York:20260429T153000
DTEND;TZID=America/New_York:20260429T173000
END:VEVENT
END:VCALENDAR